Workbook

Sheet UJUNG LAMIE
B1: JULI 2026 | C1: Ujung Lamie = 4
B3: Tgl | C3: Realisasi Produksi | D3: Produksi yang Hilang | F3: BLOK KEJADIAN (AFD,TT, No Blok) | G3: Produksi yang diselamatkan | I3: BLOK KEJADIAN (AFD,TT, No Blok) | J3: Kasus Pencurian
C4: Hari ini
C5: ( Kg ) | D5: ( Kg ) | E5: Rp | G5: ( Kg ) | H5: Rp
B6: 1 | C6: 37.65 | D6: - | E6: - | H6: -
B7: 2 | C7: 76.69 | D7: - | E7: - | H7: -
B8: 3 | C8: 78.39 | D8: - | E8: - | H8: -
B9: 4 | C9: 68.65 | D9: - | E9: - | H9: -
B10: 5 | C10: - | D10: - | E10: - | H10: -
B11: 6 | C11: 98.09 | D11: - | E11: - | H11: -
B12: 7 | C12: 57.85 | D12: 276 | E12: 552000 | F12: Afd 2, 2013, 13.AN Afd 4, 2012, 12.F | G12: 888 | H12: 1,776,000 | J12: 2
B13: 8 | C13: 91.74 | D13: 940 | E13: 1880000 | F13: Afd 2, 2013, 13.AO | G13: - | H13: - | J13: 1
B14: 9 | C14: 55.31 | D14: - | E14: - | G14: - | H14: - | J14: -
B15: 10 | C15: 70.02 | E15: - | F15: Afd 4, 2012, 12.G | G15: 250 | H15: 500000 | J15: -
B16: 11 | C16: 72.23 | E16: - | H16: - | J16: -
B17: 12 | C17: 9.77 | D17: - | E17: - | G17: - | H17: - | J17: 1
B18: 13 | C18: 72 | D18: 770 | E18: 1540000 | F18: Afd 2, 2013, 13.K & 13 L | G18: - | H18: - | J18: 2
B19: 14 | C19: 83.75 | D19: - | E19: - | F19: Afd 4, 2012, 12.E | G19: 150 | H19: 300000 | J19: 1
B20: 15 | C20: 68.33 | D20: 350 | E20: 700000 | F20: Afd 2, 2013, 13.AN | G20: - | H20: - | J20: 1
B21: 16 | C21: 93.65 | D21: 50 | E21: 100000 | F21: Afd 1, 2013, 13.BJ | G21: - | H21: - | J21: 1
B22: 17 | C22: 78.11 | D22: 84 | E22: 168000 | F22: Afd 4, 2012, 12.E | G22: 84 | H22: 168000 | J22: 1
B23: 18 | C23: 89.15 | D23: - | E23: - | G23: - | H23: - | J23: -
B24: 19 | C24: 19.14 | D24: - | E24: - | G24: - | H24: - | J24: -
B25: 20 | C25: 49.09 | D25: 970 | E25: 1,940,000 | F25: Afd 2, 2013, 13.AN | G25: - | H25: - | J25: 1
B26: 21 | C26: 94.21 | D26: - | E26: - | G26: - | H26: - | J26: -
B27: 22 | C27: 60.01 | D27: 30 | E27: 60000 | F27: Afd 1, 2013, 13.BF | G27: - | H27: - | J27: 1
B28: 23 | C28: 93.73 | D28: - | E28: - | G28: - | H28: - | J28: -
B29: 24 | C29: 78.17 | D29: - | E29: - | G29: - | H29: - | J29: -
B30: 25 | C30: 78.79 | D30: 600 | E30: 1,200,000 | F30: Afd 2, 2013, 13.AO | G30: - | H30: - | J30: 1
B31: 26 | C31: 10.37 | D31: - | E31: - | G31: - | H31: - | J31: -
B32: 27 | C32: 86 | D32: 600 | E32: 1,200,000 | F32: Afd 2, 2013, 13.AN | G32: - | H32: - | J32: 1
B33: 28 | C33: 92.9 | D33: - | E33: - | G33: - | H33: - | J33: -
B34: 29 | C34: 88 | D34: - | E34: - | G34: - | H34: - | J34: -
B35: 30 | C35: 102.39 | D35: - | E35: - | G35: - | H35: - | J35: -
B36: 31 | C36: 85.28 | D36: - | E36: - | G36: - | H36: - | J36: -

Sheet TANOH MAKMOE SEUJAHTERA
B1: JULI 2026 | C1: Tanoh Makmoe Seujahtera = 3
B3: Tgl | C3: Realisasi Produksi | D3: Produksi yang Hilang | F3: BLOK KEJADIAN (AFD,TT, No Blok) | G3: Produksi yang diselamatkan | I3: BLOK KEJADIAN (AFD,TT, No Blok) | J3: Kasus Pencurian
C4: Hari ini
C5: ( Kg ) | D5: ( Kg ) | E5: Rp | G5: ( Kg ) | H5: Rp
B6: 1 | C6: 14.5 | D6: - | E6: - | G6: - | H6: - | I6: - | J6: -
B7: 2 | C7: 55.15 | D7: - | E7: - | F7: - | G7: - | H7: - | I7: - | J7: -
B8: 3 | C8: 51.59 | D8: - | E8: - | F8: - | G8: - | H8: - | I8: - | J8: -
B9: 4 | C9: 38.44 | D9: - | E9: - | F9: - | G9: - | H9: - | I9: - | J9: -
B10: 5 | C10: - | D10: - | E10: - | F10: - | G10: - | H10: - | I10: - | J10: -
B11: 6 | C11: 35.74 | E11: - | F11: - | G11: - | H11: - | I11: - | J11: -
B12: 7 | C12: 57.89 | D12: - | E12: - | F12: - | G12: - | H12: - | I12: - | J12: -
B13: 8 | C13: 52.98 | D13: - | E13: - | F13: - | G13: - | H13: - | I13: - | J13: -
B14: 9 | C14: 49.98 | D14: - | E14: - | F14: - | G14: - | H14: - | I14: - | J14: -
B15: 10 | C15: 51.82 | D15: - | E15: - | F15: - | G15: - | H15: - | I15: - | J15: -
B16: 11 | C16: 47.02 | D16: - | E16: - | F16: - | G16: - | H16: - | I16: - | J16: -
B17: 12 | C17: 8.41 | D17: - | E17: - | F17: - | G17: - | H17: - | I17: - | J17: -
B18: 13 | C18: 62.92 | D18: - | E18: - | F18: - | G18: - | H18: - | I18: - | J18: -
B19: 14 | C19: 61.52 | D19: - | E19: - | F19: - | G19: - | H19: - | I19: - | J19: -
B20: 15 | C20: 56.58 | D20: - | E20: - | F20: - | G20: - | H20: - | I20: - | J20: -
B21: 16 | C21: 37.47 | D21: - | E21: - | F21: - | G21: - | H21: - | I21: - | J21: -
B22: 17 | C22: 51.81 | D22: - | E22: - | F22: - | G22: - | H22: - | I22: - | J22: -
B23: 18 | C23: 57.12 | D23: - | E23: - | F23: - | G23: - | H23: - | I23: - | J23: -
... B30: 25 | C30: 49.13 | D30: - | E30: - | F30: - | G30: - | H30: - | I30: - | J30: -
B31: 26 | C31: - | D31: - | E31: - | F31: - | G31: - | H31: - | I31: - | J31: -
B32: 27 | C32: 60.05 | D32: - | E32: - | F32: - | G32: - | H32: - | I32: - | J32: -
B33: 28 | C33: 36.16 | D33: - | E33: - | F33: - | G33: - | H33: - | I33: - | J33: -
B34: 29 | C34: 52.43 | D34: - | E34: - | F34: - | G34: - | H34: - | I34: - | J34: -
B35: 30 | C35: 43.5 | D35: - | E35: - | F35: - | G35: - | H35: - | I35: - | J35: -
B36: 31 | C36: 69.56

Sheet KRUENG LUAS
B1: JULI 2026 | C1: Krueng Luas = 5
B3: Tgl | C3: Realisasi Produksi | D3: Produksi yang Hilang | F3: BLOK KEJADIAN (AFD,TT, No Blok) | G3: Produksi yang diselamatkan | I3: BLOK KEJADIAN (AFD,TT, No Blok) | J3: Kasus Pencurian
C4: Hari ini
C5: ( Kg ) | D5: ( Kg ) | E5: Rp | G5: ( Kg ) | H5: Rp
B6: 1 | C6: 87.5 | D6: 12.172 | E6: 24,344,000 | F6: AFD1(96E,12D,C), AFD4(96AW) | G6: - | H6: - | I6: - | J6: 1
B7: 2 | C7: 83.481 | D7: 10,890 | E7: 21,780,000 | F7: AFD1 ( 96.D,E ), AFD4 ( 96AX ) | H7: - | J7: 1
B8: 3 | C8: 74.324 | D8: 14,100 | E8: 28,200,000 | F8: AFD1(96A,12A), AFD4(13AB) | H8: - | J8: 1
B9: 4 | C9: 88.531 | D9: 15,970 | E9: 31,940,000 | F9: AFD1(96A), AFD4(96AW) | H9: - | J9: 1
B10: 5 | C10: 70.895 | D10: 8.195 | E10: 16,390,000 | F10: AFD4 1996 (96 BA) | H10: - | J10: 1
B11: 6 | C11: 29.174 | D11: 9,910 | E11: 19,820,000 | F11: AFD1 1996 (96D), AFD4 (13.AB) | H11: - | J11: 1
B12: 7 | C12: 71.209 | D12: 8,690 | E12: 17,380,000 | F12: AFD4 1996 (96 AW) | H12: - | J12: 1
B13: 8 | C13: 83.541 | D13: 13.588 | E13: 27,176,000 | F13: AFD1 1995 (95 B), AFD4 (96BA) | H13: - | J13: 1
B14: 9 | C14: 79.015 | D14: 7.458 | E14: 14,916,000 | F14: AFD4 96.BC,97.B, 13.Z | H14: - | J14: 1
B15: 10 | C15: 78.034 | D15: 9.938 | E15: 19,876,000 | F15: AFD 3 1996, 2013 (96 AF, 13 N) AFD 1 (12.B) | H15: - | J15: 1
B16: 11 | C16: 94.263 | D16: 17.952 | E16: 35,904,000 | F16: AFD1 2012 (12 C) AFD IV 96.AX, 97.B, 12.C | H16: - | J16: 1
B17: 12 | C17: 96.434 | D17: 11.922 | E17: 23,844,000 | F17: AFD1 (95.C, 96.D) AFD IV 96.AV, 13.X | G17: 192 | H17: 384000 | J17: 1
B18: 13 | C18: 23.924 | D18: 16.398 | E18: 32,796,000 | F18: AFD1 (95.A, 96.A) AFD IV 96.BA, 97.B | H18: - | J18: 1
B19: 14 | C19: 73.182 | D19: 18,560 | E19: 37,120,000 | F19: AFD1 (95.A, 96.D) AFD IV 96.BD, 97.D, 12.F | H19: - | J19: 1
B20: 15 | C20: 94.705 | D20: 14.348 | E20: 28,696,000 | F20: AFD1 95.B, 96.C, 12.C AFD IV 96.AW, 12.X | H20: - | J20: 1
B21: 16 | C21: 98.848 | D21: 10.836 | E21: 21,672,000 | F21: AFD1 (96.B, 12.D) AFD IV 96.AX, 13.Z | H21: - | J21: 1
B22: 17 | C22: 82.143 | D22: 11.282 | E22: 22,564,000 | F22: AFD1 96.A, 12.A, AFD IV 96.AW, 13.X, 12.F | H22: - | J22: 1
B23: 18 | C23: 84.013 | D23: 9.989 | E23: 19,978,000 | F23: AFD1 96.D, 12.D AFD IV 12.F, 13.X, 14.A | G23: 5.44 | H23: 10,880,000 | J23: 1
B24: 19 | C24: 87.615 | D24: 11.278 | E24: 22,556,000 | F24: AFD1 96.C, 12.C AFD IV 96.AW, 13.X | H24: - | J24: 1
B25: 20 | C25: 32.086 | D25: 12.948 | E25: 25,896,000 | F25: AFD1 96.B, 12.B AFD IV 96.BA, 97.B, 13.Z | G25: - | H25: - | J25: 1
B26: 21 | C26: 32.232 | D26: 13.852 | E26: 27,704,000 | F26: AFD1 96.D, 12.B AFD IV 96.AW, 13.Z | H26: - | J26: 1
B27: 22 | C27: 121.354 | D27: 12.716 | E27: 25,432,000 | F27: AFD1 96.C, 12.D AFD IV 96.BC, 13.Z | H27: - | J27: 1
B28: 23 | C28: 82.535 | D28: 11.016 | E28: 22,032,000 | F28: AFD1 96.B, 12.C AFD IV 96.BD, 13.C | H28: - | J28: 1
B29: 24 | C29: 99.607 | D29: 11.626 | E29: 23,252,000 | F29: AFD1 96.E, 12.C AFD IV 96.B, 12.F | H29: - | J29: 1
B30: 25 | C30: 74.938 | D30: 11.722 | E30: 23,444,000 | F30: AFD1 96.B, 12.A AFD IV 96.AV, 13.X | H30: - | J30: 1
B31: 26 | C31: 92.105 | D31: 13.488 | E31: 26,976,000 | F31: AFD1 96.C, AFD IV 96.BA, 13.Z | H31: - | J31: 1
B32: 27 | C32: 19.03 | D32: 12.395 | E32: 24,790,000 | F32: AFD1 96.B, 12.C AFD IV 96.BD, 12.F | H32: - | J32: 1
B33: 28 | C33: 86.107 | D33: 7.981 | E33: 15,962,000 | F33: AFD1 96.A, 12.A AFD IV 13.AB, 12.F | H33: - | J33: 1
B34: 29 | C34: 94.442 | D34: 4.532 | E34: 9,064,000 | F34: AFD1 96.E, 12.C AFD IV 96.BX, 12.Z | H34: - | J34: 1
B35: 30 | C35: 74.005 | D35: 8.236 | E35: 16,472,000 | F35: AFD1 96.D, 12.D AFD IV 96.AD, 13.X | J35: 1
B36: 31 | C36: 108.39 | F36: AFD1 96.D, 12.D AFD IV 96.AD, 13.X | H36: - | J36: -
D37: =SUM(D6:D36) -> 275.868 | E37: =SUM(E6:E36) -> 0

Sheet BATEE PUTEH
B1: JULI 2026 | C1: Batee Puteh = 2
B3: Tgl | C3: Realisasi Produksi | D3: Produksi yang Hilang | F3: BLOK KEJADIAN (AFD,TT, No Blok) | G3: Produksi yang diselamatkan | I3: BLOK KEJADIAN (AFD,TT, No Blok) | J3: Kasus Pencurian
C4: Hari ini
C5: ( Kg ) | D5: ( Kg ) | E5: Rp | G5: ( Kg ) | H5: Rp
B6: 1 | C6: 26.34 | D6: - | E6: - | F6: - | G6: - | H6: - | I6: - | J6: -
B7: 2 | C7: 20.5 | D7: - | E7: - | F7: - | J7: -
B8: 3 | C8: 35.5 | D8: - | E8: - | F8: - | J8: -
B9: 4 | C9: 36.17 | D9: - | E9: - | F9: - | J9: -
B10: 5 | D10: - | E10: - | F10: - | J10: -
B11: 6 | C11: 53.06 | D11: - | E11: - | F11: - | J11: -
B12: 7 | C12: 38.7 | D12: - | E12: - | F12: - | J12: -
B13: 8 | C13: 31.92 | D13: - | E13: - | F13: - | J13: -
B14: 9 | C14: 35.11 | D14: - | E14: - | F14: - | J14: -
B15: 10 | C15: 26.96 | D15: - | E15: - | F15: - | J15: -
B16: 11 | C16: 44.3 | D16: - | E16: - | F16: - | J16: -
B17: 12 | D17: - | E17: - | F17: - | J17: -
B18: 13 | C18: 56.18 | D18: - | E18: - | F18: - | J18: -
B19: 14 | C19: 50.68 | D19: - | E19: - | F19: - | J19: -
B20: 15 | C20: 46.58 | D20: - | E20: - | F20: - | J20: -
B21: 16 | C21: 36.98 | D21: - | E21: - | F21: - | J21: -
B22: 17 | C22: 38.03 | D22: - | E22: - | F22: - | J22: -
B23: 18 | C23: 36.55 | D23: - | E23: - | F23: - | J23: -
B24: 19 | C24: 3.91 | D24: - | E24: - | F24: - | J24: -
B25: 20 | C25: 53.93 | D25: - | E25: - | F25: - | J25: -
B26: 21 | C26: 29.57 | D26: - | E26: - | F26: - | J26: -
B27: 22 | C27: 46.37 | D27: - | E27: - | F27: - | J27: -
B28: 23 | C28: 32.37 | D28: - | E28: - | F28: - | J28: -
B29: 24 | C29: 46.05 | D29: - | E29: - | F29: - | J29: -
B30: 25 | C30: 41 | D30: - | E30: - | F30: - | J30: -
B31: 26 | D31: - | E31: - | F31: - | J31: -
B32: 27 | C32: 39.51 | D32: - | E32: - | F32: - | J32: -
B33: 28 | C33: 32.91 | D33: - | E33: - | F33: - | J33: -
B34: 29 | C34: 47.03 | D34: - | E34: - | F34: - | J34: -
B35: 30 | C35: 39.52 | D35: - | E35: - | F35: - | J35: -
B36: 31 | C36: 35.41 | D36: - | E36: - | F36: - | J36: -

Sheet REKAP
C1: Realisasi Produksi | D1: Produksi yang Hilang | F1: BLOK KEJADIAN (AFD,TT, No Blok) | G1: Produksi yang diselamatkan | I1: BLOK KEJADIAN (AFD,TT, No Blok) | J1: Kasus Pencurian
C2: Hari ini
C3: ( Kg ) | D3: ( Kg ) | E3: Rp | G3: ( Kg ) | H3: Rp
B4: UL | C4: =SUM('UJUNG LAMIE'!C6:C36) -> 2139.46 | D4: =SUM('UJUNG LAMIE'!D6:D36) -> 4670 | E4: =SUM('UJUNG LAMIE'!E6:E36) -> 5000000 | F4: =SUM('UJUNG LAMIE'!F6:F36) -> 0 | G4: =SUM('UJUNG LAMIE'!G6:G36) -> 1372 | H4: =SUM('UJUNG LAMIE'!H6:H36) -> 968000 | I4: =SUM('UJUNG LAMIE'!I6:I36) -> 0 | J4: =SUM('UJUNG LAMIE'!J6:J36) -> 14
B5: TMS | C5: =SUM('TANOH MAKMOE SEUJAHTERA'!C6:C36) -> 1355.79 | D5: =SUM('TANOH MAKMOE SEUJAHTERA'!D6:D36) -> 0 | E5: =SUM('TANOH MAKMOE SEUJAHTERA'!E6:E36) -> 0 | F5: =SUM('TANOH MAKMOE SEUJAHTERA'!F6:F36) -> 0 | G5: =SUM('TANOH MAKMOE SEUJAHTERA'!G6:G36) -> 0 | H5: =SUM('TANOH MAKMOE SEUJAHTERA'!H6:H36) -> 0 | I5: =SUM('TANOH MAKMOE SEUJAHTERA'!I6:I36) -> 0 | J5: =SUM('TANOH MAKMOE SEUJAHTERA'!J6:J36) -> 0
B6: KL | C6: =SUM('KRUENG LUAS'!C6:C36) -> 2397.662 | D6: =SUM('KRUENG LUAS'!D6:D36) -> 275.868 | E6: =SUM('KRUENG LUAS'!E6:E36) -> 0 | F6: =SUM('KRUENG LUAS'!F6:F36) -> 0 | G6: =SUM('KRUENG LUAS'!G6:G36) -> 197.44 | H6: =SUM('KRUENG LUAS'!H6:H36) -> 384000 | I6: =SUM('KRUENG LUAS'!I6:I36) -> 0 | J6: =SUM('KRUENG LUAS'!J6:J36) -> 30
B7: BP | C7: =SUM('BATEE PUTEH'!C6:C36) -> 1061.14 | D7: =SUM('BATEE PUTEH'!D6:D36) -> 0 | E7: =SUM('BATEE PUTEH'!E6:E36) -> 0 | F7: =SUM('BATEE PUTEH'!F6:F36) -> 0 | G7: =SUM('BATEE PUTEH'!G6:G36) -> 0 | H7: =SUM('BATEE PUTEH'!H6:H36) -> 0 | I7: =SUM('BATEE PUTEH'!I6:I36) -> 0 | J7: =SUM('BATEE PUTEH'!J6:J36) -> 0
